BEGIN:VCALENDAR
VERSION:2.0
PRODID:-//TYPO3/NONSGML Calendarize//EN
BEGIN:VEVENT
UID:calendarize-wlp-busy-morning-duo-maples-busy-morning-linda-bassickgreg
 -rothwell
DTSTAMP:20260423T061936Z
DTSTART:20240802T153000Z
DTEND:20240802T170000Z
SUMMARY:WPL Busy Morning Duo/Maple's Busy Morning Linda Bassick&Greg Rothw
 ell
DESCRIPTION:Steele Community Room WPL Summer Reading Performer
X-ALT-DESC;FMTTYPE=text/html:<p>Steele Community Room WPL Summer Reading P
 erformer</p>
LOCATION:
END:VEVENT
END:VCALENDAR
