BEGIN:VCALENDAR
VERSION:2.0
PRODID:-//TYPO3/NONSGML Calendarize//EN
BEGIN:VEVENT
UID:calendarize-vermont-rural-water-association-2-20261020
DTSTAMP:20260424T072528Z
DTSTART:20261020T120000Z
DTEND:20261020T200000Z
SUMMARY:Vermont Rural Water Association
DESCRIPTION:Steele Community Room Allison Smith
X-ALT-DESC;FMTTYPE=text/html:<p>Steele Community Room Allison Smith</p>
LOCATION:
END:VEVENT
END:VCALENDAR
