BEGIN:VCALENDAR
VERSION:2.0
PRODID:-//TYPO3/NONSGML Calendarize//EN
BEGIN:VEVENT
UID:calendarize-vermont-department-of-forests-parks-and-recreation-2026060
 4
DTSTAMP:20260423T174312Z
DTSTART:20260604T210000Z
DTEND:20260605T000000Z
SUMMARY:Vermont Department of Forests Parks and Recreation
DESCRIPTION:Steele Community Room Hannah Phillips
X-ALT-DESC;FMTTYPE=text/html:<p>Steele Community Room Hannah Phillips</p>
LOCATION:
END:VEVENT
END:VCALENDAR
