BEGIN:VCALENDAR
VERSION:2.0
PRODID:-//TYPO3/NONSGML Calendarize//EN
BEGIN:VEVENT
UID:calendarize-default-23cbb170c993d64f98e4049488485baf-20250409
DTSTAMP:20260425T155600Z
DTSTART:20250409T180000Z
DTEND:20250409T200000Z
SUMMARY:Flood Resilience Meeting
DESCRIPTION:
X-ALT-DESC;FMTTYPE=text/html:
LOCATION:
END:VEVENT
END:VCALENDAR
