BEGIN:VCALENDAR
VERSION:2.0
PRODID:-//TYPO3/NONSGML Calendarize//EN
BEGIN:VEVENT
UID:calendarize-crew-2
DTSTAMP:20260421T181041Z
DTSTART:20260528T213000Z
DTEND:20260529T000000Z
SUMMARY:CReW  
DESCRIPTION:Steele Community Room Bre Shay
X-ALT-DESC;FMTTYPE=text/html:<p>Steele Community Room Bre Shay</p>
LOCATION:
END:VEVENT
END:VCALENDAR
